BEGIN:VCALENDAR
VERSION:2.0
PRODID:-//Transit Managerial Benevolent Association - ECPv5.15.0//NONSGML v1.0//EN
CALSCALE:GREGORIAN
METHOD:PUBLISH
X-WR-CALNAME:Transit Managerial Benevolent Association
X-ORIGINAL-URL:http://mtatmba.org
X-WR-CALDESC:Events for Transit Managerial Benevolent Association
BEGIN:VTIMEZONE
TZID:UTC
BEGIN:STANDARD
TZOFFSETFROM:+0000
TZOFFSETTO:+0000
TZNAME:UTC
DTSTART:20180101T000000
END:STANDARD
END:VTIMEZONE
BEGIN:VEVENT
DTSTART;TZID=UTC:20181109T180000
DTEND;TZID=UTC:20181109T180000
DTSTAMP:20260419T123340
CREATED:20180608T085834Z
LAST-MODIFIED:20180920T004623Z
UID:2108-1541786400-1541786400@mtatmba.org
SUMMARY:Dinner Dance for Managers of the Year
DESCRIPTION:TMBA Dinner-Dance 2018
URL:http://mtatmba.org/event/dinner-dance-for-managers-of-the-year/
LOCATION:Riccardo’s\, 21-01 24th Avenue\, Astoria\, NY\, 11104\, United States
CATEGORIES:Dinner Dance
END:VEVENT
END:VCALENDAR