BEGIN:VCALENDAR
VERSION:2.0
PRODID:-//Transit Managerial Benevolent Association - ECPv5.15.0//NONSGML v1.0//EN
CALSCALE:GREGORIAN
METHOD:PUBLISH
X-WR-CALNAME:Transit Managerial Benevolent Association
X-ORIGINAL-URL:http://mtatmba.org
X-WR-CALDESC:Events for Transit Managerial Benevolent Association
BEGIN:VTIMEZONE
TZID:UTC
BEGIN:STANDARD
TZOFFSETFROM:+0000
TZOFFSETTO:+0000
TZNAME:UTC
DTSTART:20200101T000000
END:STANDARD
END:VTIMEZONE
BEGIN:VEVENT
DTSTART;TZID=UTC:20200604T173000
DTEND;TZID=UTC:20200604T203000
DTSTAMP:20260423T230044
CREATED:20200201T013844Z
LAST-MODIFIED:20200402T153343Z
UID:2617-1591291800-1591302600@mtatmba.org
SUMMARY:This Membership Meeting Cancelled
DESCRIPTION:CANCELLED
URL:http://mtatmba.org/event/membership-meeting-13/
LOCATION:Riccardo’s\, 21-01 24th Avenue\, Astoria\, NY\, 11104\, United States
CATEGORIES:Membership Meetings
END:VEVENT
END:VCALENDAR